BEGIN:VCALENDAR
VERSION:2.0
PRODID:-//213.186.33.4//NONSGML kigkonsult.se iCalcreator 2.20//
CALSCALE:GREGORIAN
METHOD:PUBLISH
X-WR-TIMEZONE:Europe/Paris
BEGIN:VEVENT
UID:event624@GUMS Paris
DTSTAMP:20260421T103814Z
CATEGORIES:Sorties Falaises\, SAE
DESCRIPTION:Soirée manips de cordes\nCatégorie: Sorties Falaises\, SAE\nLie
 n: https://www.gumsparis.asso.fr/index.php?option=com_jem&view=event&id=62
 4:soiree-manips-de-cordes\n
DTSTART;TZID=Europe/Paris:20180323T190000
DTEND;TZID=Europe/Paris:20180323T220000
SUMMARY:Soirée manips de cordes
URL:https://www.gumsparis.asso.fr/index.php?option=com_jem&view=event&id=62
 4:soiree-manips-de-cordes
END:VEVENT
END:VCALENDAR
