BEGIN:VCALENDAR
VERSION:2.0
PRODID:-//213.186.33.4//NONSGML kigkonsult.se iCalcreator 2.20//
CALSCALE:GREGORIAN
METHOD:PUBLISH
X-WR-TIMEZONE:Europe/Paris
BEGIN:VEVENT
UID:event625@GUMS Paris
DTSTAMP:20260421T104530Z
CATEGORIES:Ski de Rando\, Sorties Falaises
DESCRIPTION:Journée manips de cordes aux Fauvettes\nCatégorie: Ski de Rando
 \, Sorties Falaises\nLien: https://www.gumsparis.asso.fr/index.php?option=
 com_jem&view=event&id=625:journee-manips-de-cordes-aux-fauvettes\n
DTSTART;VALUE=DATE:20180317
DTEND;VALUE=DATE:20180318
SUMMARY:Journée manips de cordes aux Fauvettes
URL:https://www.gumsparis.asso.fr/index.php?option=com_jem&view=event&id=62
 5:journee-manips-de-cordes-aux-fauvettes
END:VEVENT
END:VCALENDAR
