BEGIN:VCALENDAR
VERSION:2.0
PRODID:-//213.186.33.4//NONSGML kigkonsult.se iCalcreator 2.20//
CALSCALE:GREGORIAN
METHOD:PUBLISH
X-WR-TIMEZONE:Europe/Paris
BEGIN:VEVENT
UID:event63@GUMS Paris
DTSTAMP:20260421T092138Z
CATEGORIES:Sorties Falaises
DESCRIPTION:Rassemblement dans le Gard\nCatégorie: Sorties Falaises\nLien: 
 https://www.gumsparis.asso.fr/index.php?option=com_jem&view=event&id=63:ra
 ssemblement-fin-annee\n
DTSTART;VALUE=DATE:20101226
DTEND;VALUE=DATE:20110103
SUMMARY:Rassemblement dans le Gard
URL:https://www.gumsparis.asso.fr/index.php?option=com_jem&view=event&id=63
 :rassemblement-fin-annee
END:VEVENT
END:VCALENDAR
