BEGIN:VCALENDAR
VERSION:2.0
PRODID:-//213.186.33.4//NONSGML kigkonsult.se iCalcreator 2.20//
CALSCALE:GREGORIAN
METHOD:PUBLISH
X-WR-TIMEZONE:Europe/Paris
BEGIN:VEVENT
UID:event633@GUMS Paris
DTSTAMP:20260421T103848Z
CATEGORIES:Sorties Falaises
DESCRIPTION:Les Calanques à Pâques\nCatégorie: Sorties Falaises\nLien: http
 s://www.gumsparis.asso.fr/index.php?option=com_jem&view=event&id=633:calan
 ques-paques-2018\n
DTSTART;VALUE=DATE:20180330
DTEND;VALUE=DATE:20180403
SUMMARY:Les Calanques à Pâques
URL:https://www.gumsparis.asso.fr/index.php?option=com_jem&view=event&id=63
 3:calanques-paques-2018
END:VEVENT
END:VCALENDAR
