BEGIN:VCALENDAR
VERSION:2.0
PRODID:-//213.186.33.4//NONSGML kigkonsult.se iCalcreator 2.20//
CALSCALE:GREGORIAN
METHOD:PUBLISH
X-WR-TIMEZONE:Europe/Paris
BEGIN:VEVENT
UID:event634@GUMS Paris
DTSTAMP:20260421T103848Z
CATEGORIES:Sorties Falaises
DESCRIPTION:Presles à l'Ascension\nCatégorie: Sorties Falaises\nLien: https
 ://www.gumsparis.asso.fr/index.php?option=com_jem&view=event&id=634:presle
 s-2018\n
DTSTART;VALUE=DATE:20180510
DTEND;VALUE=DATE:20180514
SUMMARY:Presles à l'Ascension
URL:https://www.gumsparis.asso.fr/index.php?option=com_jem&view=event&id=63
 4:presles-2018
END:VEVENT
END:VCALENDAR
