BEGIN:VCALENDAR
VERSION:2.0
PRODID:-//213.186.33.4//NONSGML kigkonsult.se iCalcreator 2.20//
CALSCALE:GREGORIAN
METHOD:PUBLISH
X-WR-TIMEZONE:Europe/Paris
BEGIN:VEVENT
UID:event645@GUMS Paris
DTSTAMP:20260421T110048Z
CATEGORIES:Sorties Falaises
DESCRIPTION:Rassemblement de Toussaint à Vingrau\nCatégorie: Sorties Falais
 es\nLien: https://www.gumsparis.asso.fr/index.php?option=com_jem&view=even
 t&id=645:rassemblement-de-toussaint-a-vingrau\n
DTSTART;VALUE=DATE:20181027
DTEND;VALUE=DATE:20181104
SUMMARY:Rassemblement de Toussaint à Vingrau
URL:https://www.gumsparis.asso.fr/index.php?option=com_jem&view=event&id=64
 5:rassemblement-de-toussaint-a-vingrau
END:VEVENT
END:VCALENDAR
