BEGIN:VCALENDAR
VERSION:2.0
PRODID:-//213.186.33.4//NONSGML kigkonsult.se iCalcreator 2.20//
CALSCALE:GREGORIAN
METHOD:PUBLISH
X-WR-TIMEZONE:Europe/Paris
BEGIN:VEVENT
UID:event649@GUMS Paris
DTSTAMP:20260421T110211Z
CATEGORIES:Sorties Falaises
DESCRIPTION:Car-couchettes Montagne Sainte-Victoire\nCatégorie: Sorties Fal
 aises\nLien: https://www.gumsparis.asso.fr/index.php?option=com_jem&view=e
 vent&id=649:car-couchettes-montagne-sainte-victoire\n
DTSTART;VALUE=DATE:20181117
DTEND;VALUE=DATE:20181119
SUMMARY:Car-couchettes Montagne Sainte-Victoire
URL:https://www.gumsparis.asso.fr/index.php?option=com_jem&view=event&id=64
 9:car-couchettes-montagne-sainte-victoire
END:VEVENT
END:VCALENDAR
