BEGIN:VCALENDAR
VERSION:2.0
PRODID:-//213.186.33.4//NONSGML kigkonsult.se iCalcreator 2.20//
CALSCALE:GREGORIAN
METHOD:PUBLISH
X-WR-TIMEZONE:Europe/Paris
BEGIN:VEVENT
UID:event650@GUMS Paris
DTSTAMP:20260421T105437Z
CATEGORIES:Ski de Rando
DESCRIPTION:commission ski\nCatégorie: Ski de Rando\nLien: https://www.gums
 paris.asso.fr/index.php?option=com_jem&view=event&id=650:commission-ski\n
DTSTART;TZID=Europe/Paris:20181002T193000
DTEND;TZID=Europe/Paris:20181002T193000
LOCATION:Perma\,53 rue du Moulin Vert\,75014 Paris
SUMMARY:commission ski
URL:https://www.gumsparis.asso.fr/index.php?option=com_jem&view=event&id=65
 0:commission-ski
END:VEVENT
END:VCALENDAR
