BEGIN:VCALENDAR
VERSION:2.0
PRODID:-//213.186.33.4//NONSGML kigkonsult.se iCalcreator 2.20//
CALSCALE:GREGORIAN
METHOD:PUBLISH
X-WR-TIMEZONE:Europe/Paris
BEGIN:VEVENT
UID:event652@GUMS Paris
DTSTAMP:20260421T105540Z
CATEGORIES:Ski de Rando
DESCRIPTION:Soirée de lancement saison de ski \nCatégorie: Ski de Rando\nLi
 en: https://www.gumsparis.asso.fr/index.php?option=com_jem&view=event&id=6
 52:soiree-de-lancement-saison-de-ski\n
DTSTART;TZID=Europe/Paris:20181108T193000
DTEND;TZID=Europe/Paris:20181108T193000
SUMMARY:Soirée de lancement saison de ski 
URL:https://www.gumsparis.asso.fr/index.php?option=com_jem&view=event&id=65
 2:soiree-de-lancement-saison-de-ski
END:VEVENT
END:VCALENDAR
