BEGIN:VCALENDAR
VERSION:2.0
PRODID:-//213.186.33.4//NONSGML kigkonsult.se iCalcreator 2.20//
CALSCALE:GREGORIAN
METHOD:PUBLISH
X-WR-TIMEZONE:Europe/Paris
BEGIN:VEVENT
UID:event653@GUMS Paris
DTSTAMP:20260421T110232Z
CATEGORIES:Sorties Falaises\, Ski de Rando
DESCRIPTION:Manips de corde au viaduc des Fauvettes\nCatégorie: Sorties Fal
 aises\, Ski de Rando\nLien: https://www.gumsparis.asso.fr/index.php?option
 =com_jem&view=event&id=653:manips-de-corde-au-viaduc-des-fauvettes\n
DTSTART;VALUE=DATE:20190406
DTEND;VALUE=DATE:20190407
SUMMARY:Manips de corde au viaduc des Fauvettes
URL:https://www.gumsparis.asso.fr/index.php?option=com_jem&view=event&id=65
 3:manips-de-corde-au-viaduc-des-fauvettes
END:VEVENT
END:VCALENDAR
