BEGIN:VCALENDAR
VERSION:2.0
PRODID:-//213.186.33.4//NONSGML kigkonsult.se iCalcreator 2.20//
CALSCALE:GREGORIAN
METHOD:PUBLISH
X-WR-TIMEZONE:Europe/Paris
BEGIN:VEVENT
UID:event654@GUMS Paris
DTSTAMP:20260421T110344Z
CATEGORIES:Ski de Rando
DESCRIPTION:soirée perma: historique ski de rando au gums par georges polia
 n\nCatégorie: Ski de Rando\nLien: https://www.gumsparis.asso.fr/index.php?
 option=com_jem&view=event&id=654:soiree-perma-historique-ski-de-rando-au-g
 ums-par-georges-polian\n
DTSTART;TZID=Europe/Paris:20181129T193000
DTEND;TZID=Europe/Paris:20181129T193000
LOCATION:Perma\,53 rue du Moulin Vert\,75014 Paris
SUMMARY:soirée perma: historique ski de rando au gums par georges polian
URL:https://www.gumsparis.asso.fr/index.php?option=com_jem&view=event&id=65
 4:soiree-perma-historique-ski-de-rando-au-gums-par-georges-polian
END:VEVENT
END:VCALENDAR
