BEGIN:VCALENDAR
VERSION:2.0
PRODID:-//213.186.33.4//NONSGML kigkonsult.se iCalcreator 2.20//
CALSCALE:GREGORIAN
METHOD:PUBLISH
X-WR-TIMEZONE:Europe/Paris
BEGIN:VEVENT
UID:event657@GUMS Paris
DTSTAMP:20260421T105442Z
CATEGORIES:Ski de Rando
DESCRIPTION:soirée nivologie\nCatégorie: Ski de Rando\nLien: https://www.gu
 msparis.asso.fr/index.php?option=com_jem&view=event&id=657:nivo\n
DTSTART;TZID=Europe/Paris:20181204T193000
DTEND;TZID=Europe/Paris:20181204T213000
LOCATION:Perma\,53 rue du Moulin Vert\,75014 Paris
SUMMARY:soirée nivologie
URL:https://www.gumsparis.asso.fr/index.php?option=com_jem&view=event&id=65
 7:nivo
END:VEVENT
END:VCALENDAR
