BEGIN:VCALENDAR
VERSION:2.0
PRODID:-//213.186.33.4//NONSGML kigkonsult.se iCalcreator 2.20//
CALSCALE:GREGORIAN
METHOD:PUBLISH
X-WR-TIMEZONE:Europe/Paris
BEGIN:VEVENT
UID:event661@GUMS Paris
DTSTAMP:20260421T105442Z
CATEGORIES:Ski de Rando
DESCRIPTION:soirée DVA à cité U\nCatégorie: Ski de Rando\nLien: https://www
 .gumsparis.asso.fr/index.php?option=com_jem&view=event&id=661:soiree-dva-a
 -cite-u\n
DTSTART;TZID=Europe/Paris:20181210T190000
DTEND;TZID=Europe/Paris:20181210T200000
SUMMARY:soirée DVA à cité U
URL:https://www.gumsparis.asso.fr/index.php?option=com_jem&view=event&id=66
 1:soiree-dva-a-cite-u
END:VEVENT
END:VCALENDAR
