BEGIN:VCALENDAR
VERSION:2.0
PRODID:-//213.186.33.4//NONSGML kigkonsult.se iCalcreator 2.20//
CALSCALE:GREGORIAN
METHOD:PUBLISH
X-WR-TIMEZONE:Europe/Paris
BEGIN:VEVENT
UID:event662@GUMS Paris
DTSTAMP:20260421T105943Z
CATEGORIES:Sorties Falaises
DESCRIPTION:Week-end de Pâques dans le Puy de Dôme\nCatégorie: Sorties Fala
 ises\nLien: https://www.gumsparis.asso.fr/index.php?option=com_jem&view=ev
 ent&id=662:week-end-de-paques-dans-le-puy-de-dome\n
DTSTART;VALUE=DATE:20190420
DTEND;VALUE=DATE:20190423
SUMMARY:Week-end de Pâques dans le Puy de Dôme
URL:https://www.gumsparis.asso.fr/index.php?option=com_jem&view=event&id=66
 2:week-end-de-paques-dans-le-puy-de-dome
END:VEVENT
END:VCALENDAR
