BEGIN:VCALENDAR
VERSION:2.0
PRODID:-//213.186.33.4//NONSGML kigkonsult.se iCalcreator 2.20//
CALSCALE:GREGORIAN
METHOD:PUBLISH
X-WR-TIMEZONE:Europe/Paris
BEGIN:VEVENT
UID:event663@GUMS Paris
DTSTAMP:20260421T105709Z
CATEGORIES:Sorties Falaises
DESCRIPTION:Surgy en train+vélo\nCatégorie: Sorties Falaises\nLien: https:/
 /www.gumsparis.asso.fr/index.php?option=com_jem&view=event&id=663:surgy-en
 -train-velo\n
DTSTART;VALUE=DATE:20190525
DTEND;VALUE=DATE:20190527
SUMMARY:Surgy en train+vélo
URL:https://www.gumsparis.asso.fr/index.php?option=com_jem&view=event&id=66
 3:surgy-en-train-velo
END:VEVENT
END:VCALENDAR
