BEGIN:VCALENDAR
VERSION:2.0
PRODID:-//213.186.33.4//NONSGML kigkonsult.se iCalcreator 2.20//
CALSCALE:GREGORIAN
METHOD:PUBLISH
X-WR-TIMEZONE:Europe/Paris
BEGIN:VEVENT
UID:event664@GUMS Paris
DTSTAMP:20260421T115542Z
CATEGORIES:Sorties Falaises
DESCRIPTION:Sortie Dent d'Orlu (Ariège)\nCatégorie: Sorties Falaises\nLien:
  https://www.gumsparis.asso.fr/index.php?option=com_jem&view=event&id=664:
 sortie-dent-d-orlu-ariege\n
DTSTART;VALUE=DATE:20190629
DTEND;VALUE=DATE:20190701
SUMMARY:Sortie Dent d'Orlu (Ariège)
URL:https://www.gumsparis.asso.fr/index.php?option=com_jem&view=event&id=66
 4:sortie-dent-d-orlu-ariege
END:VEVENT
END:VCALENDAR
