BEGIN:VCALENDAR
VERSION:2.0
PRODID:-//213.186.33.4//NONSGML kigkonsult.se iCalcreator 2.20//
CALSCALE:GREGORIAN
METHOD:PUBLISH
X-WR-TIMEZONE:Europe/Paris
BEGIN:VEVENT
UID:event668@GUMS Paris
DTSTAMP:20260421T105517Z
CATEGORIES:Sorties Falaises
DESCRIPTION:Stage fissures à Annot\nCatégorie: Sorties Falaises\nLien: http
 s://www.gumsparis.asso.fr/index.php?option=com_jem&view=event&id=668:stage
 -fissures-a-annot\n
DTSTART;VALUE=DATE:20190530
DTEND;VALUE=DATE:20190603
SUMMARY:Stage fissures à Annot
URL:https://www.gumsparis.asso.fr/index.php?option=com_jem&view=event&id=66
 8:stage-fissures-a-annot
END:VEVENT
END:VCALENDAR
