BEGIN:VCALENDAR
VERSION:2.0
PRODID:-//213.186.33.4//NONSGML kigkonsult.se iCalcreator 2.20//
CALSCALE:GREGORIAN
METHOD:PUBLISH
X-WR-TIMEZONE:Europe/Paris
BEGIN:VEVENT
UID:event670@GUMS Paris
DTSTAMP:20260421T105825Z
CATEGORIES:Ski de Rando
DESCRIPTION:Car-couchettes Val d'Isère\nCatégorie: Ski de Rando\nLien: http
 s://www.gumsparis.asso.fr/index.php?option=com_jem&view=event&id=670:car-c
 ouchette-139\n
DTSTART;VALUE=DATE:20190209
DTEND;VALUE=DATE:20190211
SUMMARY:Car-couchettes Val d'Isère
URL:https://www.gumsparis.asso.fr/index.php?option=com_jem&view=event&id=67
 0:car-couchette-139
END:VEVENT
END:VCALENDAR
