BEGIN:VCALENDAR
VERSION:2.0
PRODID:-//213.186.33.4//NONSGML kigkonsult.se iCalcreator 2.20//
CALSCALE:GREGORIAN
METHOD:PUBLISH
X-WR-TIMEZONE:Europe/Paris
BEGIN:VEVENT
UID:event671@GUMS Paris
DTSTAMP:20260421T105637Z
CATEGORIES:Ski de Rando
DESCRIPTION:Car-couchettes Airolo\nCatégorie: Ski de Rando\nLien: https://w
 ww.gumsparis.asso.fr/index.php?option=com_jem&view=event&id=671:car-couche
 tte-140\n
DTSTART;VALUE=DATE:20190216
DTEND;VALUE=DATE:20190218
SUMMARY:Car-couchettes Airolo
URL:https://www.gumsparis.asso.fr/index.php?option=com_jem&view=event&id=67
 1:car-couchette-140
END:VEVENT
END:VCALENDAR
