BEGIN:VCALENDAR
VERSION:2.0
PRODID:-//213.186.33.4//NONSGML kigkonsult.se iCalcreator 2.20//
CALSCALE:GREGORIAN
METHOD:PUBLISH
X-WR-TIMEZONE:Europe/Paris
BEGIN:VEVENT
UID:event673@GUMS Paris
DTSTAMP:20260421T105540Z
CATEGORIES:Ski de Rando
DESCRIPTION:Car-couchettes Pralognan\nCatégorie: Ski de Rando\nLien: https:
 //www.gumsparis.asso.fr/index.php?option=com_jem&view=event&id=673:car-cou
 chette-142\n
DTSTART;VALUE=DATE:20190330
DTEND;VALUE=DATE:20190402
SUMMARY:Car-couchettes Pralognan
URL:https://www.gumsparis.asso.fr/index.php?option=com_jem&view=event&id=67
 3:car-couchette-142
END:VEVENT
END:VCALENDAR
