BEGIN:VCALENDAR
VERSION:2.0
PRODID:-//213.186.33.4//NONSGML kigkonsult.se iCalcreator 2.20//
CALSCALE:GREGORIAN
METHOD:PUBLISH
X-WR-TIMEZONE:Europe/Paris
BEGIN:VEVENT
UID:event674@GUMS Paris
DTSTAMP:20260421T105709Z
CATEGORIES:Ski de Rando
DESCRIPTION:Car-couchettes Abries\nCatégorie: Ski de Rando\nLien: https://w
 ww.gumsparis.asso.fr/index.php?option=com_jem&view=event&id=674:car-couche
 tte-143\n
DTSTART;VALUE=DATE:20190413
DTEND;VALUE=DATE:20190415
SUMMARY:Car-couchettes Abries
URL:https://www.gumsparis.asso.fr/index.php?option=com_jem&view=event&id=67
 4:car-couchette-143
END:VEVENT
END:VCALENDAR
