BEGIN:VCALENDAR
VERSION:2.0
PRODID:-//213.186.33.4//NONSGML kigkonsult.se iCalcreator 2.20//
CALSCALE:GREGORIAN
METHOD:PUBLISH
X-WR-TIMEZONE:Europe/Paris
BEGIN:VEVENT
UID:event675@GUMS Paris
DTSTAMP:20260421T115636Z
CATEGORIES:Ski de Rando
DESCRIPTION:Car-couchettes Zermatt/Saas Fee\nCatégorie: Ski de Rando\nLien:
  https://www.gumsparis.asso.fr/index.php?option=com_jem&view=event&id=675:
 car-couchette-144\n
DTSTART;VALUE=DATE:20190420
DTEND;VALUE=DATE:20190423
SUMMARY:Car-couchettes Zermatt/Saas Fee
URL:https://www.gumsparis.asso.fr/index.php?option=com_jem&view=event&id=67
 5:car-couchette-144
END:VEVENT
END:VCALENDAR
