BEGIN:VCALENDAR
VERSION:2.0
PRODID:-//213.186.33.4//NONSGML kigkonsult.se iCalcreator 2.20//
CALSCALE:GREGORIAN
METHOD:PUBLISH
X-WR-TIMEZONE:Europe/Paris
BEGIN:VEVENT
UID:event676@GUMS Paris
DTSTAMP:20260421T105637Z
CATEGORIES:Ski de Rando\, Rando sportive
DESCRIPTION:Car-couchettes St Christophe en OIsans/Col du Lautaret\nCatégor
 ie: Ski de Rando\, Rando sportive\nLien: https://www.gumsparis.asso.fr/ind
 ex.php?option=com_jem&view=event&id=676:car-couchette-145\n
DTSTART;VALUE=DATE:20190518
DTEND;VALUE=DATE:20190521
SUMMARY:Car-couchettes St Christophe en OIsans/Col du Lautaret
URL:https://www.gumsparis.asso.fr/index.php?option=com_jem&view=event&id=67
 6:car-couchette-145
END:VEVENT
END:VCALENDAR
