BEGIN:VCALENDAR
VERSION:2.0
PRODID:-//213.186.33.4//NONSGML kigkonsult.se iCalcreator 2.20//
CALSCALE:GREGORIAN
METHOD:PUBLISH
X-WR-TIMEZONE:Europe/Paris
BEGIN:VEVENT
UID:event677@GUMS Paris
DTSTAMP:20260421T105637Z
CATEGORIES:Rando sportive
DESCRIPTION:Vercors\nCatégorie: Rando sportive\nLien: https://www.gumsparis
 .asso.fr/index.php?option=com_jem&view=event&id=677:car-couchette-146\n
DTSTART;VALUE=DATE:20190530
DTEND;VALUE=DATE:20190603
SUMMARY:Vercors
URL:https://www.gumsparis.asso.fr/index.php?option=com_jem&view=event&id=67
 7:car-couchette-146
END:VEVENT
END:VCALENDAR
