BEGIN:VCALENDAR
VERSION:2.0
PRODID:-//213.186.33.4//NONSGML kigkonsult.se iCalcreator 2.20//
CALSCALE:GREGORIAN
METHOD:PUBLISH
X-WR-TIMEZONE:Europe/Paris
BEGIN:VEVENT
UID:event679@GUMS Paris
DTSTAMP:20260421T105622Z
CATEGORIES:Rando sportive
DESCRIPTION:Puy de Sancy\nCatégorie: Rando sportive\nLien: https://www.gums
 paris.asso.fr/index.php?option=com_jem&view=event&id=679:car-couchette-148
 \n
DTSTART;VALUE=DATE:20190622
DTEND;VALUE=DATE:20190624
SUMMARY:Puy de Sancy
URL:https://www.gumsparis.asso.fr/index.php?option=com_jem&view=event&id=67
 9:car-couchette-148
END:VEVENT
END:VCALENDAR
