BEGIN:VCALENDAR
VERSION:2.0
PRODID:-//213.186.33.4//NONSGML kigkonsult.se iCalcreator 2.20//
CALSCALE:GREGORIAN
METHOD:PUBLISH
X-WR-TIMEZONE:Europe/Paris
BEGIN:VEVENT
UID:event682@GUMS Paris
DTSTAMP:20260421T105437Z
CATEGORIES:Sorties Falaises
DESCRIPTION:Rassemblement dans le Verdon\nCatégorie: Sorties Falaises\nLien
 : https://www.gumsparis.asso.fr/index.php?option=com_jem&view=event&id=682
 :verdon\n
DTSTART;VALUE=DATE:20190427
DTEND;VALUE=DATE:20190505
SUMMARY:Rassemblement dans le Verdon
URL:https://www.gumsparis.asso.fr/index.php?option=com_jem&view=event&id=68
 2:verdon
END:VEVENT
END:VCALENDAR
