BEGIN:VCALENDAR
VERSION:2.0
PRODID:-//213.186.33.4//NONSGML kigkonsult.se iCalcreator 2.20//
CALSCALE:GREGORIAN
METHOD:PUBLISH
X-WR-TIMEZONE:Europe/Paris
BEGIN:VEVENT
UID:event686@GUMS Paris
DTSTAMP:20260421T105442Z
CATEGORIES:Sorties Falaises
DESCRIPTION:Escalade en Sicile\nCatégorie: Sorties Falaises\nLien: https://
 www.gumsparis.asso.fr/index.php?option=com_jem&view=event&id=686:escalade-
 en-sicile\n
DTSTART;VALUE=DATE:20191018
DTEND;VALUE=DATE:20191028
SUMMARY:Escalade en Sicile
URL:https://www.gumsparis.asso.fr/index.php?option=com_jem&view=event&id=68
 6:escalade-en-sicile
END:VEVENT
END:VCALENDAR
