BEGIN:VCALENDAR
VERSION:2.0
PRODID:-//213.186.33.4//NONSGML kigkonsult.se iCalcreator 2.20//
CALSCALE:GREGORIAN
METHOD:PUBLISH
X-WR-TIMEZONE:Europe/Paris
BEGIN:VEVENT
UID:event689@GUMS Paris
DTSTAMP:20260421T105744Z
CATEGORIES:Vie du Club
DESCRIPTION:Encordés pour le climat\nCatégorie: Vie du Club\nLien: https://
 www.gumsparis.asso.fr/index.php?option=com_jem&view=event&id=689:encordes-
 pour-le-climat\n
DTSTART;TZID=Europe/Paris:20190706T140000
DTEND;TZID=Europe/Paris:20190706T180000
SUMMARY:Encordés pour le climat
URL:https://www.gumsparis.asso.fr/index.php?option=com_jem&view=event&id=68
 9:encordes-pour-le-climat
END:VEVENT
END:VCALENDAR
