BEGIN:VCALENDAR
VERSION:2.0
PRODID:-//213.186.33.4//NONSGML kigkonsult.se iCalcreator 2.20//
CALSCALE:GREGORIAN
METHOD:PUBLISH
X-WR-TIMEZONE:Europe/Paris
BEGIN:VEVENT
UID:event69@GUMS Paris
DTSTAMP:20260421T094816Z
CATEGORIES:Vie du Club
DESCRIPTION:Projection de videos : Mont Ross\, la suite  par G. Polian\nCat
 égorie: Vie du Club\nLien: https://www.gumsparis.asso.fr/index.php?option=
 com_jem&view=event&id=69:projection-de-videos-mont-ross-la-suite-par-g-pol
 ian\n
DTSTART;VALUE=DATE:20101202
DTEND;VALUE=DATE:20101203
SUMMARY:Projection de videos : Mont Ross\, la suite  par G. Polian
URL:https://www.gumsparis.asso.fr/index.php?option=com_jem&view=event&id=69
 :projection-de-videos-mont-ross-la-suite-par-g-polian
END:VEVENT
END:VCALENDAR
