BEGIN:VCALENDAR
VERSION:2.0
PRODID:-//213.186.33.4//NONSGML kigkonsult.se iCalcreator 2.20//
CALSCALE:GREGORIAN
METHOD:PUBLISH
X-WR-TIMEZONE:Europe/Paris
BEGIN:VEVENT
UID:event690@GUMS Paris
DTSTAMP:20260421T105804Z
CATEGORIES:Rando sportive\, Sorties randonnée\, Sorties Falaises
DESCRIPTION:Car couchettes Haute-Ubaye\, Maljasset (Saint Paul sur Ubaye)\n
 Catégorie: Rando sportive\, Sorties randonnée\, Sorties Falaises\nLien: ht
 tps://www.gumsparis.asso.fr/index.php?option=com_jem&view=event&id=690:car
 -cochettes-maljasset\n
DTSTART;VALUE=DATE:20191012
DTEND;VALUE=DATE:20191014
SUMMARY:Car couchettes Haute-Ubaye\, Maljasset (Saint Paul sur Ubaye)
URL:https://www.gumsparis.asso.fr/index.php?option=com_jem&view=event&id=69
 0:car-cochettes-maljasset
END:VEVENT
END:VCALENDAR
