BEGIN:VCALENDAR
VERSION:2.0
PRODID:-//213.186.33.4//NONSGML kigkonsult.se iCalcreator 2.20//
CALSCALE:GREGORIAN
METHOD:PUBLISH
X-WR-TIMEZONE:Europe/Paris
BEGIN:VEVENT
UID:event691@GUMS Paris
DTSTAMP:20260421T094231Z
CATEGORIES:Rando sportive\, Sorties randonnée\, Sorties Falaises
DESCRIPTION:Car-couchettes Buis les Baronnies\nCatégorie: Rando sportive\, 
 Sorties randonnée\, Sorties Falaises\nLien: https://www.gumsparis.asso.fr/
 index.php?option=com_jem&view=event&id=691:buis-les-baronnies\n
DTSTART;VALUE=DATE:20191109
DTEND;VALUE=DATE:20191112
SUMMARY:Car-couchettes Buis les Baronnies
URL:https://www.gumsparis.asso.fr/index.php?option=com_jem&view=event&id=69
 1:buis-les-baronnies
END:VEVENT
END:VCALENDAR
