BEGIN:VCALENDAR
VERSION:2.0
PRODID:-//213.186.33.4//NONSGML kigkonsult.se iCalcreator 2.20//
CALSCALE:GREGORIAN
METHOD:PUBLISH
X-WR-TIMEZONE:Europe/Paris
BEGIN:VEVENT
UID:event694@GUMS Paris
DTSTAMP:20260421T094533Z
CATEGORIES:Sorties Falaises
DESCRIPTION:Rassemblement du nouvel an dans les Calanques\nCatégorie: Sorti
 es Falaises\nLien: https://www.gumsparis.asso.fr/index.php?option=com_jem&
 view=event&id=694:rassemblement-du-nouvel-an-dans-les-calanques\n
DTSTART;VALUE=DATE:20191228
DTEND;VALUE=DATE:20200105
SUMMARY:Rassemblement du nouvel an dans les Calanques
URL:https://www.gumsparis.asso.fr/index.php?option=com_jem&view=event&id=69
 4:rassemblement-du-nouvel-an-dans-les-calanques
END:VEVENT
END:VCALENDAR
