BEGIN:VCALENDAR
VERSION:2.0
PRODID:-//213.186.33.4//NONSGML kigkonsult.se iCalcreator 2.20//
CALSCALE:GREGORIAN
METHOD:PUBLISH
X-WR-TIMEZONE:Europe/Paris
BEGIN:VEVENT
UID:event696@GUMS Paris
DTSTAMP:20260421T105804Z
CATEGORIES:Sorties Falaises
DESCRIPTION:Rassemblement d'automne dans le Gard\nCatégorie: Sorties Falais
 es\nLien: https://www.gumsparis.asso.fr/index.php?option=com_jem&view=even
 t&id=696:rassemblement-d-automne-dans-le-gard\n
DTSTART;VALUE=DATE:20191019
DTEND;VALUE=DATE:20191027
SUMMARY:Rassemblement d'automne dans le Gard
URL:https://www.gumsparis.asso.fr/index.php?option=com_jem&view=event&id=69
 6:rassemblement-d-automne-dans-le-gard
END:VEVENT
END:VCALENDAR
