BEGIN:VCALENDAR
VERSION:2.0
PRODID:-//213.186.33.4//NONSGML kigkonsult.se iCalcreator 2.20//
CALSCALE:GREGORIAN
METHOD:PUBLISH
X-WR-TIMEZONE:Europe/Paris
BEGIN:VEVENT
UID:event697@GUMS Paris
DTSTAMP:20260421T094153Z
CATEGORIES:Sorties randonnée
DESCRIPTION:Forêt de Dourdan\, ancienne forêt royale\nCatégorie: Sorties ra
 ndonnée\nLien: https://www.gumsparis.asso.fr/index.php?option=com_jem&view
 =event&id=697:foret-de-dourdan-ancienne-foret-royale\n
DTSTART;TZID=Europe/Paris:20191103T095000
DTEND;TZID=Europe/Paris:20191103T095000
SUMMARY:Forêt de Dourdan\, ancienne forêt royale
URL:https://www.gumsparis.asso.fr/index.php?option=com_jem&view=event&id=69
 7:foret-de-dourdan-ancienne-foret-royale
END:VEVENT
END:VCALENDAR
