BEGIN:VCALENDAR
VERSION:2.0
PRODID:-//213.186.33.4//NONSGML kigkonsult.se iCalcreator 2.20//
CALSCALE:GREGORIAN
METHOD:PUBLISH
X-WR-TIMEZONE:Europe/Paris
BEGIN:VEVENT
UID:event698@GUMS Paris
DTSTAMP:20260421T094938Z
CATEGORIES:Sorties randonnée
DESCRIPTION:Itinérances entre bosses\, sable et forêt (Forêt de Fontaineble
 au/Massif des trois pignons)\nCatégorie: Sorties randonnée\nLien: https://
 www.gumsparis.asso.fr/index.php?option=com_jem&view=event&id=698:itineranc
 es-entre-bosses-sable-et-foret-foret-de-fontainebleau-massif-des-trois-pig
 nons\n
DTSTART;TZID=Europe/Paris:20191124T100000
DTEND;TZID=Europe/Paris:20191124T100000
SUMMARY:Itinérances entre bosses\, sable et forêt (Forêt de Fontainebleau/M
 assif des trois pignons)
URL:https://www.gumsparis.asso.fr/index.php?option=com_jem&view=event&id=69
 8:itinerances-entre-bosses-sable-et-foret-foret-de-fontainebleau-massif-de
 s-trois-pignons
END:VEVENT
END:VCALENDAR
