BEGIN:VCALENDAR
VERSION:2.0
PRODID:-//213.186.33.4//NONSGML kigkonsult.se iCalcreator 2.20//
CALSCALE:GREGORIAN
METHOD:PUBLISH
X-WR-TIMEZONE:Europe/Paris
BEGIN:VEVENT
UID:event699@GUMS Paris
DTSTAMP:20260421T105622Z
CATEGORIES:Ski de Rando
DESCRIPTION:Car-couchettes Maljasset (Saint Paul sur Ubaye)\nCatégorie: Ski
  de Rando\nLien: https://www.gumsparis.asso.fr/index.php?option=com_jem&vi
 ew=event&id=699:car-couchette-150\n
DTSTART;VALUE=DATE:20191012
DTEND;VALUE=DATE:20191014
SUMMARY:Car-couchettes Maljasset (Saint Paul sur Ubaye)
URL:https://www.gumsparis.asso.fr/index.php?option=com_jem&view=event&id=69
 9:car-couchette-150
END:VEVENT
END:VCALENDAR
