BEGIN:VCALENDAR
VERSION:2.0
PRODID:-//213.186.33.4//NONSGML kigkonsult.se iCalcreator 2.20//
CALSCALE:GREGORIAN
METHOD:PUBLISH
X-WR-TIMEZONE:Europe/Paris
BEGIN:VEVENT
UID:event701@GUMS Paris
DTSTAMP:20260421T094045Z
CATEGORIES:Ski de Rando
DESCRIPTION:Car-couchettes Val Ferret italien\nCatégorie: Ski de Rando\nLie
 n: https://www.gumsparis.asso.fr/index.php?option=com_jem&view=event&id=70
 1:car-couchette-152\n
DTSTART;VALUE=DATE:20191214
DTEND;VALUE=DATE:20191216
SUMMARY:Car-couchettes Val Ferret italien
URL:https://www.gumsparis.asso.fr/index.php?option=com_jem&view=event&id=70
 1:car-couchette-152
END:VEVENT
END:VCALENDAR
