BEGIN:VCALENDAR
VERSION:2.0
PRODID:-//213.186.33.4//NONSGML kigkonsult.se iCalcreator 2.20//
CALSCALE:GREGORIAN
METHOD:PUBLISH
X-WR-TIMEZONE:Europe/Paris
BEGIN:VEVENT
UID:event703@GUMS Paris
DTSTAMP:20260421T094105Z
CATEGORIES:Ski de Rando
DESCRIPTION:Car-couchettes Beaufortain / Lauzière\nCatégorie: Ski de Rando
 \nLien: https://www.gumsparis.asso.fr/index.php?option=com_jem&view=event&
 id=703:car-couchette-154\n
DTSTART;VALUE=DATE:20200118
DTEND;VALUE=DATE:20200120
SUMMARY:Car-couchettes Beaufortain / Lauzière
URL:https://www.gumsparis.asso.fr/index.php?option=com_jem&view=event&id=70
 3:car-couchette-154
END:VEVENT
END:VCALENDAR
