BEGIN:VCALENDAR
VERSION:2.0
PRODID:-//213.186.33.4//NONSGML kigkonsult.se iCalcreator 2.20//
CALSCALE:GREGORIAN
METHOD:PUBLISH
X-WR-TIMEZONE:Europe/Paris
BEGIN:VEVENT
UID:event708@GUMS Paris
DTSTAMP:20260421T094104Z
CATEGORIES:Ski de Rando
DESCRIPTION:Car-couchettes Chamonix\nCatégorie: Ski de Rando\nLien: https:/
 /www.gumsparis.asso.fr/index.php?option=com_jem&view=event&id=708:car-couc
 hette-158\n
DTSTART;VALUE=DATE:20200411
DTEND;VALUE=DATE:20200414
SUMMARY:Car-couchettes Chamonix
URL:https://www.gumsparis.asso.fr/index.php?option=com_jem&view=event&id=70
 8:car-couchette-158
END:VEVENT
END:VCALENDAR
