BEGIN:VCALENDAR
VERSION:2.0
PRODID:-//213.186.33.4//NONSGML kigkonsult.se iCalcreator 2.20//
CALSCALE:GREGORIAN
METHOD:PUBLISH
X-WR-TIMEZONE:Europe/Paris
BEGIN:VEVENT
UID:event709@GUMS Paris
DTSTAMP:20260421T094104Z
CATEGORIES:Ski de Rando
DESCRIPTION:Car-couchettes Grand Saint Bernard\nCatégorie: Ski de Rando\nLi
 en: https://www.gumsparis.asso.fr/index.php?option=com_jem&view=event&id=7
 09:car-couchette-159\n
DTSTART;VALUE=DATE:20200425
DTEND;VALUE=DATE:20200427
SUMMARY:Car-couchettes Grand Saint Bernard
URL:https://www.gumsparis.asso.fr/index.php?option=com_jem&view=event&id=70
 9:car-couchette-159
END:VEVENT
END:VCALENDAR
