BEGIN:VCALENDAR
VERSION:2.0
PRODID:-//213.186.33.4//NONSGML kigkonsult.se iCalcreator 2.20//
CALSCALE:GREGORIAN
METHOD:PUBLISH
X-WR-TIMEZONE:Europe/Paris
BEGIN:VEVENT
UID:event710@GUMS Paris
DTSTAMP:20260421T094110Z
CATEGORIES:Ski de Rando
DESCRIPTION:Car-couchettes Oisans Annulé\nCatégorie: Ski de Rando\nLien: ht
 tps://www.gumsparis.asso.fr/index.php?option=com_jem&view=event&id=710:car
 -couchette-160\n
DTSTART;VALUE=DATE:20200508
DTEND;VALUE=DATE:20200511
SUMMARY:Car-couchettes Oisans Annulé
URL:https://www.gumsparis.asso.fr/index.php?option=com_jem&view=event&id=71
 0:car-couchette-160
END:VEVENT
END:VCALENDAR
