BEGIN:VCALENDAR
VERSION:2.0
PRODID:-//213.186.33.4//NONSGML kigkonsult.se iCalcreator 2.20//
CALSCALE:GREGORIAN
METHOD:PUBLISH
X-WR-TIMEZONE:Europe/Paris
BEGIN:VEVENT
UID:event711@GUMS Paris
DTSTAMP:20260421T094110Z
CATEGORIES:Ski de Rando
DESCRIPTION:Car-couchettes Bernina Annulé\nCatégorie: Ski de Rando\nLien: h
 ttps://www.gumsparis.asso.fr/index.php?option=com_jem&view=event&id=711:ca
 r-couchette-161\n
DTSTART;VALUE=DATE:20200521
DTEND;VALUE=DATE:20200525
SUMMARY:Car-couchettes Bernina Annulé
URL:https://www.gumsparis.asso.fr/index.php?option=com_jem&view=event&id=71
 1:car-couchette-161
END:VEVENT
END:VCALENDAR
