BEGIN:VCALENDAR
VERSION:2.0
PRODID:-//213.186.33.4//NONSGML kigkonsult.se iCalcreator 2.20//
CALSCALE:GREGORIAN
METHOD:PUBLISH
X-WR-TIMEZONE:Europe/Paris
BEGIN:VEVENT
UID:event713@GUMS Paris
DTSTAMP:20260421T094045Z
CATEGORIES:Rando sportive
DESCRIPTION:WE Rando Pyrénnées\nCatégorie: Rando sportive\nLien: https://ww
 w.gumsparis.asso.fr/index.php?option=com_jem&view=event&id=713:rando-pyren
 nees\n
DTSTART;VALUE=DATE:20191026
DTEND;VALUE=DATE:20191028
SUMMARY:WE Rando Pyrénnées
URL:https://www.gumsparis.asso.fr/index.php?option=com_jem&view=event&id=71
 3:rando-pyrennees
END:VEVENT
END:VCALENDAR
