BEGIN:VCALENDAR
VERSION:2.0
PRODID:-//213.186.33.4//NONSGML kigkonsult.se iCalcreator 2.20//
CALSCALE:GREGORIAN
METHOD:PUBLISH
X-WR-TIMEZONE:Europe/Paris
BEGIN:VEVENT
UID:event714@GUMS Paris
DTSTAMP:20260421T094655Z
CATEGORIES:Sorties randonnée
DESCRIPTION:Forêt de Montmorency\, Le Château de la Chasse\nCatégorie: Sort
 ies randonnée\nLien: https://www.gumsparis.asso.fr/index.php?option=com_je
 m&view=event&id=714:foret-de-montmorency-le-chateau-de-la-chasse\n
DTSTART;TZID=Europe/Paris:20191208T100000
DTEND;TZID=Europe/Paris:20191208T100000
SUMMARY:Forêt de Montmorency\, Le Château de la Chasse
URL:https://www.gumsparis.asso.fr/index.php?option=com_jem&view=event&id=71
 4:foret-de-montmorency-le-chateau-de-la-chasse
END:VEVENT
END:VCALENDAR
