BEGIN:VCALENDAR
VERSION:2.0
PRODID:-//213.186.33.4//NONSGML kigkonsult.se iCalcreator 2.20//
CALSCALE:GREGORIAN
METHOD:PUBLISH
X-WR-TIMEZONE:Europe/Paris
BEGIN:VEVENT
UID:event718@GUMS Paris
DTSTAMP:20260421T094110Z
CATEGORIES:Vie du Club
DESCRIPTION:Soirée Fartage session 2\nCatégorie: Vie du Club\nLien: https:/
 /www.gumsparis.asso.fr/index.php?option=com_jem&view=event&id=718:soiree-f
 artage-session-2\n
DTSTART;TZID=Europe/Paris:20191204T190000
DTEND;TZID=Europe/Paris:20191204T230000
LOCATION:Perma\,53 rue du Moulin Vert\,75014 Paris
SUMMARY:Soirée Fartage session 2
URL:https://www.gumsparis.asso.fr/index.php?option=com_jem&view=event&id=71
 8:soiree-fartage-session-2
END:VEVENT
END:VCALENDAR
