BEGIN:VCALENDAR
VERSION:2.0
PRODID:-//213.186.33.4//NONSGML kigkonsult.se iCalcreator 2.20//
CALSCALE:GREGORIAN
METHOD:PUBLISH
X-WR-TIMEZONE:Europe/Paris
BEGIN:VEVENT
UID:event72@GUMS Paris
DTSTAMP:20260421T092428Z
CATEGORIES:Sorties randonnée
DESCRIPTION:Etréchy- Auvers Saint Georges\nCatégorie: Sorties randonnée\nLi
 en: https://www.gumsparis.asso.fr/index.php?option=com_jem&view=event&id=7
 2:etrechy-auvers-saint-georges\n
DTSTART;VALUE=DATE:20101121
DTEND;VALUE=DATE:20101122
SUMMARY:Etréchy- Auvers Saint Georges
URL:https://www.gumsparis.asso.fr/index.php?option=com_jem&view=event&id=72
 :etrechy-auvers-saint-georges
END:VEVENT
END:VCALENDAR
