BEGIN:VCALENDAR
VERSION:2.0
PRODID:-//213.186.33.4//NONSGML kigkonsult.se iCalcreator 2.20//
CALSCALE:GREGORIAN
METHOD:PUBLISH
X-WR-TIMEZONE:Europe/Paris
BEGIN:VEVENT
UID:event720@GUMS Paris
DTSTAMP:20260421T093907Z
CATEGORIES:Vie du Club
DESCRIPTION:Pot de Noël\nCatégorie: Vie du Club\nLien: https://www.gumspari
 s.asso.fr/index.php?option=com_jem&view=event&id=720:pot-de-noel\n
DTSTART;TZID=Europe/Paris:20191219T193000
DTEND;TZID=Europe/Paris:20191219T193000
LOCATION:Perma\,53 rue du Moulin vert\,75014 PARIS
SUMMARY:Pot de Noël
URL:https://www.gumsparis.asso.fr/index.php?option=com_jem&view=event&id=72
 0:pot-de-noel
END:VEVENT
END:VCALENDAR
