BEGIN:VCALENDAR
VERSION:2.0
PRODID:-//213.186.33.4//NONSGML kigkonsult.se iCalcreator 2.20//
CALSCALE:GREGORIAN
METHOD:PUBLISH
X-WR-TIMEZONE:Europe/Paris
BEGIN:VEVENT
UID:event722@GUMS Paris
DTSTAMP:20260421T093820Z
CATEGORIES:Sorties Falaises
DESCRIPTION:Week-end Calanques\nCatégorie: Sorties Falaises\nLien: https://
 www.gumsparis.asso.fr/index.php?option=com_jem&view=event&id=722:week-end-
 calanques\n
DTSTART;VALUE=DATE:20200424
DTEND;VALUE=DATE:20200427
SUMMARY:Week-end Calanques
URL:https://www.gumsparis.asso.fr/index.php?option=com_jem&view=event&id=72
 2:week-end-calanques
END:VEVENT
END:VCALENDAR
