BEGIN:VCALENDAR
VERSION:2.0
PRODID:-//213.186.33.4//NONSGML kigkonsult.se iCalcreator 2.20//
CALSCALE:GREGORIAN
METHOD:PUBLISH
X-WR-TIMEZONE:Europe/Paris
BEGIN:VEVENT
UID:event724@GUMS Paris
DTSTAMP:20260421T095008Z
CATEGORIES:Sorties randonnée
DESCRIPTION:Au fil de la Bièvre de St-Quentin en Yvelines à Jouy-en-Josas (
 GR 11)\nCatégorie: Sorties randonnée\nLien: https://www.gumsparis.asso.fr/
 index.php?option=com_jem&view=event&id=724:au-fil-de-la-bievre-de-st-quent
 in-en-yvelines-a-jouy-en-josas-gr-11-veronique-de-colombel-06-42-76-36-24-
 jacques-bouillet-06-08-34-07-68-parcours-de-12-5-km-de-gare-a-gare-st-quen
 tin-en-yvelines-jouy-en-josas-point-de-rendez-vous-vers-10h00-gare-de-st-q
 ue\n
DTSTART;TZID=Europe/Paris:20200119T100000
DTEND;TZID=Europe/Paris:20200119T100000
SUMMARY:Au fil de la Bièvre de St-Quentin en Yvelines à Jouy-en-Josas (GR 1
 1)
URL:https://www.gumsparis.asso.fr/index.php?option=com_jem&view=event&id=72
 4:au-fil-de-la-bievre-de-st-quentin-en-yvelines-a-jouy-en-josas-gr-11-vero
 nique-de-colombel-06-42-76-36-24-jacques-bouillet-06-08-34-07-68-parcours-
 de-12-5-km-de-gare-a-gare-st-quentin-en-yvelines-jouy-en-josas-point-de-re
 ndez-vous-vers-10h00-gare-de-st-que
END:VEVENT
END:VCALENDAR
