BEGIN:VCALENDAR
VERSION:2.0
PRODID:-//213.186.33.4//NONSGML kigkonsult.se iCalcreator 2.20//
CALSCALE:GREGORIAN
METHOD:PUBLISH
X-WR-TIMEZONE:Europe/Paris
BEGIN:VEVENT
UID:event725@GUMS Paris
DTSTAMP:20260421T094542Z
CATEGORIES:Sorties randonnée
DESCRIPTION:Balcon sur la Marne à partir de Lagny\nCatégorie: Sorties rando
 nnée\nLien: https://www.gumsparis.asso.fr/index.php?option=com_jem&view=ev
 ent&id=725:balcon-sur-la-marne-a-partir-de-lagny\n
DTSTART;TZID=Europe/Paris:20200202T100000
DTEND;TZID=Europe/Paris:20200202T100000
SUMMARY:Balcon sur la Marne à partir de Lagny
URL:https://www.gumsparis.asso.fr/index.php?option=com_jem&view=event&id=72
 5:balcon-sur-la-marne-a-partir-de-lagny
END:VEVENT
END:VCALENDAR
